BEGIN:VCALENDAR
VERSION:2.0
PRODID:-//SRSR
CALSCALE:GREGORIAN
METHOD:PUBLISH
X-WR-CALNAME:SRSR
X-ORIGINAL-URL:https://spikraitsaundrait.com/k-event/childrens-speech-etiquette-programme-2/
X-WR-CALDESC:Children’s Speech &#038; Etiquette Programme
BEGIN:VEVENT
DTSTART:
DTEND:
SUMMARY:Children’s Speech &#038; Etiquette Programme
DESCRIPTION:
LOCATION:
END:VEVENT
END:VCALENDAR
